Package: RDRToolbox Version: 1.59.0 Command: /home/biocbuild/R/R/bin/R CMD INSTALL RDRToolbox StartedAt: 2025-10-23 20:23:32 -0000 (Thu, 23 Oct 2025) EndedAt: 2025-10-23 20:24:28 -0000 (Thu, 23 Oct 2025) EllapsedTime: 56.1 seconds RetCode: 0 Status: OK