Package: RDRToolbox Version: 1.59.0 Command: /home/biocbuild/R/R/bin/R CMD build --keep-empty-dirs --no-resave-data RDRToolbox StartedAt: 2025-10-21 02:21:38 -0000 (Tue, 21 Oct 2025) EndedAt: 2025-10-21 02:21:48 -0000 (Tue, 21 Oct 2025) EllapsedTime: 10.0 seconds RetCode: 0 Status: OK PackageFile: RDRToolbox_1.59.0.tar.gz PackageFileSize: 185.9 KiB