Package: RDRToolbox Version: 1.59.0 Command: /Library/Frameworks/R.framework/Resources/bin/R CMD INSTALL RDRToolbox StartedAt: 2025-10-24 15:17:04 -0400 (Fri, 24 Oct 2025) EndedAt: 2025-10-24 15:17:53 -0400 (Fri, 24 Oct 2025) EllapsedTime: 48.8 seconds RetCode: 0 Status: OK