Package: RDRToolbox Version: 1.59.0 Command: /Library/Frameworks/R.framework/Resources/bin/R CMD build --keep-empty-dirs --no-resave-data RDRToolbox StartedAt: 2025-10-24 18:25:22 -0400 (Fri, 24 Oct 2025) EndedAt: 2025-10-24 18:25:41 -0400 (Fri, 24 Oct 2025) EllapsedTime: 19.5 seconds RetCode: 0 Status: OK PackageFile: RDRToolbox_1.59.0.tar.gz PackageFileSize: 189.9 KiB