Package: RDRToolbox Version: 1.59.0 Command: rm -rf RDRToolbox.buildbin-libdir && mkdir RDRToolbox.buildbin-libdir && /Users/biocbuild/BBS/utils/build-universal.sh RDRToolbox_1.59.0.tar.gz /Library/Frameworks/R.framework/Resources/bin/R RDRToolbox.buildbin-libdir StartedAt: 2025-10-25 01:58:22 -0400 (Sat, 25 Oct 2025) EndedAt: 2025-10-25 01:58:28 -0400 (Sat, 25 Oct 2025) EllapsedTime: 5.8 seconds RetCode: 0 Status: OK PackageFile: RDRToolbox_1.59.0.tgz PackageFileSize: 187.4 KiB