Package: RCyjs Version: 2.31.0 Command: /home/biocbuild/bbs-3.22-bioc/R/bin/R CMD INSTALL RCyjs StartedAt: 2025-10-24 15:24:46 -0400 (Fri, 24 Oct 2025) EndedAt: 2025-10-24 15:24:52 -0400 (Fri, 24 Oct 2025) EllapsedTime: 5.8 seconds RetCode: 0 Status: OK