Package: RCy3 Version: 2.29.2 Command: /home/biocbuild/bbs-3.22-bioc/R/bin/R CMD INSTALL RCy3 StartedAt: 2025-10-24 15:23:03 -0400 (Fri, 24 Oct 2025) EndedAt: 2025-10-24 15:23:16 -0400 (Fri, 24 Oct 2025) EllapsedTime: 13.2 seconds RetCode: 0 Status: OK