Package: RCy3 Version: 2.29.2 Command: /home/biocbuild/bbs-3.22-bioc/R/bin/R CMD build --keep-empty-dirs --no-resave-data --md5 RCy3 StartedAt: 2025-10-24 19:42:05 -0400 (Fri, 24 Oct 2025) EndedAt: 2025-10-24 19:42:39 -0400 (Fri, 24 Oct 2025) EllapsedTime: 34.1 seconds RetCode: 0 Status: OK PackageFile: RCy3_2.29.2.tar.gz PackageFileSize: 6.482 MiB