Package: RCX Version: 1.13.1 Command: /home/biocbuild/bbs-3.22-bioc/R/bin/R CMD INSTALL RCX StartedAt: 2025-10-24 15:15:57 -0400 (Fri, 24 Oct 2025) EndedAt: 2025-10-24 15:16:05 -0400 (Fri, 24 Oct 2025) EllapsedTime: 8.9 seconds RetCode: 0 Status: OK