Package: RCX Version: 1.14.0 Command: /Library/Frameworks/R.framework/Resources/bin/R CMD INSTALL RCX StartedAt: 2025-10-31 15:06:44 -0400 (Fri, 31 Oct 2025) EndedAt: 2025-10-31 15:06:48 -0400 (Fri, 31 Oct 2025) EllapsedTime: 3.5 seconds RetCode: 0 Status: OK