Package: RCX Version: 1.14.0 Command: /Library/Frameworks/R.framework/Resources/bin/R CMD build --keep-empty-dirs --no-resave-data RCX StartedAt: 2025-10-31 17:31:49 -0400 (Fri, 31 Oct 2025) EndedAt: 2025-10-31 17:32:00 -0400 (Fri, 31 Oct 2025) EllapsedTime: 11.1 seconds RetCode: 0 Status: OK PackageFile: RCX_1.14.0.tar.gz PackageFileSize: 4.574 MiB