Package: RCSL Version: 1.17.0 Command: /home/biocbuild/bbs-3.22-bioc/R/bin/R CMD INSTALL RCSL StartedAt: 2025-10-24 15:29:44 -0400 (Fri, 24 Oct 2025) EndedAt: 2025-10-24 15:29:53 -0400 (Fri, 24 Oct 2025) EllapsedTime: 8.2 seconds RetCode: 0 Status: OK