Package: RCSL Version: 1.17.0 Command: /home/biocbuild/bbs-3.22-bioc/R/bin/R CMD build --keep-empty-dirs --no-resave-data --md5 RCSL StartedAt: 2025-10-24 19:41:37 -0400 (Fri, 24 Oct 2025) EndedAt: 2025-10-24 19:42:05 -0400 (Fri, 24 Oct 2025) EllapsedTime: 28.0 seconds RetCode: 0 Status: OK PackageFile: RCSL_1.17.0.tar.gz PackageFileSize: 1.962 MiB