Package: RCSL Version: 1.17.0 Command: /Library/Frameworks/R.framework/Resources/bin/R CMD INSTALL RCSL StartedAt: 2025-10-24 15:14:57 -0400 (Fri, 24 Oct 2025) EndedAt: 2025-10-24 15:15:01 -0400 (Fri, 24 Oct 2025) EllapsedTime: 3.5 seconds RetCode: 0 Status: OK