Package: RCSL Version: 1.17.0 Command: /Library/Frameworks/R.framework/Resources/bin/R CMD build --keep-empty-dirs --no-resave-data RCSL StartedAt: 2025-10-24 17:28:38 -0400 (Fri, 24 Oct 2025) EndedAt: 2025-10-24 17:28:51 -0400 (Fri, 24 Oct 2025) EllapsedTime: 13.1 seconds RetCode: 0 Status: OK PackageFile: RCSL_1.17.0.tar.gz PackageFileSize: 1.975 MiB