Package: RCSL Version: 1.17.0 Command: rm -rf RCSL.buildbin-libdir && mkdir RCSL.buildbin-libdir && /Users/biocbuild/BBS/utils/build-universal.sh RCSL_1.17.0.tar.gz /Library/Frameworks/R.framework/Resources/bin/R RCSL.buildbin-libdir StartedAt: 2025-10-26 22:45:20 -0400 (Sun, 26 Oct 2025) EndedAt: 2025-10-26 22:45:24 -0400 (Sun, 26 Oct 2025) EllapsedTime: 4.1 seconds RetCode: 0 Status: OK PackageFile: RCSL_1.17.0.tgz PackageFileSize: 3.036 MiB