Package: RCM Version: 1.25.2 Command: /home/biocbuild/bbs-3.22-bioc/R/bin/R CMD INSTALL RCM StartedAt: 2025-10-27 15:19:54 -0400 (Mon, 27 Oct 2025) EndedAt: 2025-10-27 15:20:17 -0400 (Mon, 27 Oct 2025) EllapsedTime: 23.1 seconds RetCode: 0 Status: OK