Package: RCM Version: 1.26.0 Command: /Library/Frameworks/R.framework/Resources/bin/R CMD INSTALL RCM StartedAt: 2025-11-10 15:08:34 -0500 (Mon, 10 Nov 2025) EndedAt: 2025-11-10 15:08:43 -0500 (Mon, 10 Nov 2025) EllapsedTime: 8.8 seconds RetCode: 0 Status: OK