Package: RCASPAR Version: 1.55.0 Command: /Library/Frameworks/R.framework/Resources/bin/R CMD INSTALL RCASPAR StartedAt: 2025-10-28 15:01:18 -0400 (Tue, 28 Oct 2025) EndedAt: 2025-10-28 15:01:20 -0400 (Tue, 28 Oct 2025) EllapsedTime: 1.6 seconds RetCode: 0 Status: OK