Package: RCASPAR Version: 1.56.0 Command: rm -rf RCASPAR.buildbin-libdir && mkdir RCASPAR.buildbin-libdir && /Users/biocbuild/BBS/utils/build-universal.sh RCASPAR_1.56.0.tar.gz /Library/Frameworks/R.framework/Resources/bin/R RCASPAR.buildbin-libdir StartedAt: 2025-10-30 05:36:59 -0400 (Thu, 30 Oct 2025) EndedAt: 2025-10-30 05:37:01 -0400 (Thu, 30 Oct 2025) EllapsedTime: 2.0 seconds RetCode: 0 Status: OK PackageFile: RCASPAR_1.56.0.tgz PackageFileSize: 376.9 KiB