Package: RBioFormats Version: 1.10.0 Command: /home/biocbuild/bbs-3.22-bioc/R/bin/R CMD check --install=check:RBioFormats.install-out.txt --library=/home/biocbuild/bbs-3.22-bioc/R/site-library --timings RBioFormats_1.10.0.tar.gz StartedAt: 2025-10-31 03:05:32 -0400 (Fri, 31 Oct 2025) EndedAt: 2025-10-31 03:06:52 -0400 (Fri, 31 Oct 2025) EllapsedTime: 79.2 seconds RetCode: 0 Status: OK CheckDir: RBioFormats.Rcheck Warnings: 0