Package: RBioFormats Version: 1.9.0 Command: /Library/Frameworks/R.framework/Resources/bin/R CMD INSTALL RBioFormats StartedAt: 2025-10-24 15:22:35 -0400 (Fri, 24 Oct 2025) EndedAt: 2025-10-24 15:22:55 -0400 (Fri, 24 Oct 2025) EllapsedTime: 19.6 seconds RetCode: 0 Status: OK