Package: RBioFormats Version: 1.9.0 Command: rm -rf RBioFormats.buildbin-libdir && mkdir RBioFormats.buildbin-libdir && /Users/biocbuild/BBS/utils/build-universal.sh RBioFormats_1.9.0.tar.gz /Library/Frameworks/R.framework/Resources/bin/R RBioFormats.buildbin-libdir StartedAt: 2025-10-25 01:57:57 -0400 (Sat, 25 Oct 2025) EndedAt: 2025-10-25 01:58:13 -0400 (Sat, 25 Oct 2025) EllapsedTime: 16.2 seconds RetCode: 0 Status: OK PackageFile: RBioFormats_1.9.0.tgz PackageFileSize: 523.4 KiB