Package: RBioFormats Version: 1.9.0 Command: /Library/Frameworks/R.framework/Resources/bin/R CMD INSTALL RBioFormats StartedAt: 2025-10-27 15:07:12 -0400 (Mon, 27 Oct 2025) EndedAt: 2025-10-27 15:07:16 -0400 (Mon, 27 Oct 2025) EllapsedTime: 3.5 seconds RetCode: 0 Status: OK