Package: RBioFormats Version: 1.9.0 Command: /Library/Frameworks/R.framework/Resources/bin/R CMD build --keep-empty-dirs --no-resave-data RBioFormats StartedAt: 2025-10-26 17:40:08 -0400 (Sun, 26 Oct 2025) EndedAt: 2025-10-26 17:40:15 -0400 (Sun, 26 Oct 2025) EllapsedTime: 7.1 seconds RetCode: 0 Status: OK PackageFile: RBioFormats_1.9.0.tar.gz PackageFileSize: 321.5 KiB