Package: RBM Version: 1.41.0 Command: /home/biocbuild/bbs-3.22-bioc/R/bin/R CMD INSTALL RBM StartedAt: 2025-10-24 15:13:36 -0400 (Fri, 24 Oct 2025) EndedAt: 2025-10-24 15:13:52 -0400 (Fri, 24 Oct 2025) EllapsedTime: 16.4 seconds RetCode: 0 Status: OK