Package: RBM Version: 1.41.0 Command: /home/biocbuild/bbs-3.22-bioc/R/bin/R CMD build --keep-empty-dirs --no-resave-data --md5 RBM StartedAt: 2025-10-27 19:31:57 -0400 (Mon, 27 Oct 2025) EndedAt: 2025-10-27 19:32:27 -0400 (Mon, 27 Oct 2025) EllapsedTime: 30.0 seconds RetCode: 0 Status: OK PackageFile: RBM_1.41.0.tar.gz PackageFileSize: 371.6 KiB