Package: RBGL Version: 1.85.0 Command: /home/biocbuild/bbs-3.22-bioc/R/bin/R CMD INSTALL RBGL StartedAt: 2025-10-27 15:14:16 -0400 (Mon, 27 Oct 2025) EndedAt: 2025-10-27 15:16:03 -0400 (Mon, 27 Oct 2025) EllapsedTime: 106.5 seconds RetCode: 0 Status: OK