Package: RBGL Version: 1.86.0 Command: /Library/Frameworks/R.framework/Resources/bin/R CMD INSTALL RBGL StartedAt: 2025-11-10 15:06:41 -0500 (Mon, 10 Nov 2025) EndedAt: 2025-11-10 15:07:09 -0500 (Mon, 10 Nov 2025) EllapsedTime: 28.0 seconds RetCode: 0 Status: OK