Package: RBGL Version: 1.86.0 Command: /Library/Frameworks/R.framework/Resources/bin/R CMD build --keep-empty-dirs --no-resave-data RBGL StartedAt: 2025-11-10 17:27:30 -0500 (Mon, 10 Nov 2025) EndedAt: 2025-11-10 17:28:06 -0500 (Mon, 10 Nov 2025) EllapsedTime: 35.4 seconds RetCode: 0 Status: OK PackageFile: RBGL_1.86.0.tar.gz PackageFileSize: 2.964 MiB