Package: RAIDS Version: 1.7.3 Command: /home/biocbuild/bbs-3.22-bioc/R/bin/R CMD INSTALL RAIDS StartedAt: 2025-10-24 15:51:38 -0400 (Fri, 24 Oct 2025) EndedAt: 2025-10-24 15:52:31 -0400 (Fri, 24 Oct 2025) EllapsedTime: 53.6 seconds RetCode: 0 Status: OK