Package: RAIDS Version: 1.7.3 Command: /home/biocbuild/bbs-3.22-bioc/R/bin/R CMD build --keep-empty-dirs --no-resave-data --md5 RAIDS StartedAt: 2025-10-24 19:38:12 -0400 (Fri, 24 Oct 2025) EndedAt: 2025-10-24 19:40:14 -0400 (Fri, 24 Oct 2025) EllapsedTime: 121.1 seconds RetCode: 0 Status: OK PackageFile: RAIDS_1.7.3.tar.gz PackageFileSize: 3.405 MiB