Package: R4RNA Version: 1.37.0 Command: /home/biocbuild/bbs-3.22-bioc/R/bin/R CMD build --keep-empty-dirs --no-resave-data --md5 R4RNA StartedAt: 2025-10-27 19:28:59 -0400 (Mon, 27 Oct 2025) EndedAt: 2025-10-27 19:29:16 -0400 (Mon, 27 Oct 2025) EllapsedTime: 17.0 seconds RetCode: 0 Status: OK PackageFile: R4RNA_1.37.0.tar.gz PackageFileSize: 907.7 KiB