Package: R4RNA Version: 1.38.0 Command: /Library/Frameworks/R.framework/Resources/bin/R CMD INSTALL R4RNA StartedAt: 2025-10-31 15:12:28 -0400 (Fri, 31 Oct 2025) EndedAt: 2025-10-31 15:12:33 -0400 (Fri, 31 Oct 2025) EllapsedTime: 4.7 seconds RetCode: 0 Status: OK