Package: R453Plus1Toolbox Version: 1.59.0 Command: /home/biocbuild/R/R/bin/R CMD INSTALL R453Plus1Toolbox StartedAt: 2025-10-23 21:18:01 -0000 (Thu, 23 Oct 2025) EndedAt: 2025-10-23 21:19:38 -0000 (Thu, 23 Oct 2025) EllapsedTime: 97.3 seconds RetCode: 0 Status: OK