Package: R453Plus1Toolbox Version: 1.59.0 Command: /home/biocbuild/R/R/bin/R CMD build --keep-empty-dirs --no-resave-data R453Plus1Toolbox StartedAt: 2025-10-21 02:15:51 -0000 (Tue, 21 Oct 2025) EndedAt: 2025-10-21 02:17:45 -0000 (Tue, 21 Oct 2025) EllapsedTime: 114.1 seconds RetCode: 1 Status: ERROR PackageFile: None PackageFileSize: NA