Package: R453Plus1Toolbox Version: 1.59.0 Command: /home/biocbuild/bbs-3.22-bioc/R/bin/R CMD INSTALL R453Plus1Toolbox StartedAt: 2025-10-24 16:02:57 -0400 (Fri, 24 Oct 2025) EndedAt: 2025-10-24 16:04:06 -0400 (Fri, 24 Oct 2025) EllapsedTime: 69.0 seconds RetCode: 0 Status: OK