Package: R453Plus1Toolbox Version: 1.59.0 Command: /home/biocbuild/bbs-3.22-bioc/R/bin/R CMD build --keep-empty-dirs --no-resave-data --md5 R453Plus1Toolbox StartedAt: 2025-10-24 19:37:11 -0400 (Fri, 24 Oct 2025) EndedAt: 2025-10-24 19:38:36 -0400 (Fri, 24 Oct 2025) EllapsedTime: 85.1 seconds RetCode: 1 Status: ERROR PackageFile: None PackageFileSize: NA