Package: R453Plus1Toolbox Version: 1.59.0 Command: /Library/Frameworks/R.framework/Resources/bin/R CMD INSTALL R453Plus1Toolbox StartedAt: 2025-10-24 15:51:35 -0400 (Fri, 24 Oct 2025) EndedAt: 2025-10-24 15:53:13 -0400 (Fri, 24 Oct 2025) EllapsedTime: 97.4 seconds RetCode: 0 Status: OK