Package: R453Plus1Toolbox Version: 1.59.0 Command: /Library/Frameworks/R.framework/Resources/bin/R CMD build --keep-empty-dirs --no-resave-data R453Plus1Toolbox StartedAt: 2025-10-24 18:22:40 -0400 (Fri, 24 Oct 2025) EndedAt: 2025-10-24 18:24:24 -0400 (Fri, 24 Oct 2025) EllapsedTime: 104.1 seconds RetCode: 1 Status: ERROR PackageFile: None PackageFileSize: NA