Package: R453Plus1Toolbox Version: 1.59.0 Command: rm -rf R453Plus1Toolbox.buildbin-libdir && mkdir R453Plus1Toolbox.buildbin-libdir && /Users/biocbuild/BBS/utils/build-universal.sh R453Plus1Toolbox_1.59.0.tar.gz /Library/Frameworks/R.framework/Resources/bin/R R453Plus1Toolbox.buildbin-libdir StartedAt: 2025-09-17 01:30:37 -0400 (Wed, 17 Sep 2025) EndedAt: 2025-09-17 01:32:21 -0400 (Wed, 17 Sep 2025) EllapsedTime: 103.9 seconds RetCode: 0 Status: OK PackageFile: R453Plus1Toolbox_1.59.0.tgz PackageFileSize: 2.238 MiB