Package: R3CPET Version: 1.41.0 Command: /home/biocbuild/bbs-3.22-bioc/R/bin/R CMD INSTALL R3CPET StartedAt: 2025-10-24 15:57:32 -0400 (Fri, 24 Oct 2025) EndedAt: 2025-10-24 15:58:41 -0400 (Fri, 24 Oct 2025) EllapsedTime: 69.6 seconds RetCode: 0 Status: OK