Package: QuaternaryProd Version: 1.43.0 Command: /home/biocbuild/R/R/bin/R CMD INSTALL QuaternaryProd StartedAt: 2025-10-23 20:25:46 -0000 (Thu, 23 Oct 2025) EndedAt: 2025-10-23 20:26:21 -0000 (Thu, 23 Oct 2025) EllapsedTime: 34.7 seconds RetCode: 0 Status: OK