Package: QuaternaryProd Version: 1.43.0 Command: /home/biocbuild/bbs-3.22-bioc/R/bin/R CMD check --install=check:QuaternaryProd.install-out.txt --library=/home/biocbuild/bbs-3.22-bioc/R/site-library --timings QuaternaryProd_1.43.0.tar.gz StartedAt: 2025-10-25 03:06:34 -0400 (Sat, 25 Oct 2025) EndedAt: 2025-10-25 03:07:22 -0400 (Sat, 25 Oct 2025) EllapsedTime: 48.1 seconds RetCode: 0 Status: OK CheckDir: QuaternaryProd.Rcheck Warnings: 0