Package: QuaternaryProd Version: 1.43.0 Command: rm -rf QuaternaryProd.buildbin-libdir && mkdir QuaternaryProd.buildbin-libdir && /Users/biocbuild/BBS/utils/build-universal.sh QuaternaryProd_1.43.0.tar.gz /Library/Frameworks/R.framework/Resources/bin/R QuaternaryProd.buildbin-libdir StartedAt: 2025-10-25 01:57:26 -0400 (Sat, 25 Oct 2025) EndedAt: 2025-10-25 01:57:51 -0400 (Sat, 25 Oct 2025) EllapsedTime: 25.3 seconds RetCode: 0 Status: OK PackageFile: QuaternaryProd_1.43.0.tgz PackageFileSize: 10.89 MiB