Package: QuaternaryProd Version: 1.43.0 Command: /Library/Frameworks/R.framework/Resources/bin/R CMD INSTALL QuaternaryProd StartedAt: 2025-10-27 15:04:45 -0400 (Mon, 27 Oct 2025) EndedAt: 2025-10-27 15:04:50 -0400 (Mon, 27 Oct 2025) EllapsedTime: 5.8 seconds RetCode: 0 Status: OK