Package: QuasR Version: 1.49.3 Command: /home/biocbuild/bbs-3.22-bioc/R/bin/R CMD INSTALL QuasR StartedAt: 2025-10-24 16:08:59 -0400 (Fri, 24 Oct 2025) EndedAt: 2025-10-24 16:10:05 -0400 (Fri, 24 Oct 2025) EllapsedTime: 66.0 seconds RetCode: 0 Status: OK