Package: QuasR Version: 1.50.0 Command: /Library/Frameworks/R.framework/Resources/bin/R CMD INSTALL QuasR StartedAt: 2025-11-02 15:55:25 -0500 (Sun, 02 Nov 2025) EndedAt: 2025-11-02 15:56:55 -0500 (Sun, 02 Nov 2025) EllapsedTime: 90.4 seconds RetCode: 0 Status: OK