Package: QuasR Version: 1.50.0 Command: /Library/Frameworks/R.framework/Resources/bin/R CMD build --keep-empty-dirs --no-resave-data QuasR StartedAt: 2025-11-03 18:21:27 -0500 (Mon, 03 Nov 2025) EndedAt: 2025-11-03 18:26:40 -0500 (Mon, 03 Nov 2025) EllapsedTime: 313.3 seconds RetCode: 0 Status: OK PackageFile: QuasR_1.50.0.tar.gz PackageFileSize: 2.406 MiB