Package: QuasR Version: 1.50.0 Command: rm -rf QuasR.buildbin-libdir && mkdir QuasR.buildbin-libdir && /Users/biocbuild/BBS/utils/build-universal.sh QuasR_1.50.0.tar.gz /Library/Frameworks/R.framework/Resources/bin/R QuasR.buildbin-libdir StartedAt: 2025-11-04 01:57:32 -0500 (Tue, 04 Nov 2025) EndedAt: 2025-11-04 01:59:13 -0500 (Tue, 04 Nov 2025) EllapsedTime: 100.6 seconds RetCode: 0 Status: OK PackageFile: QuasR_1.50.0.tgz PackageFileSize: 3.452 MiB